BEGIN:VCALENDAR
PRODID:-//Microsoft Corporation//Outlook 11.0 MIMEDIR//EN
VERSION:2.0
CALSCALE:GREGORIAN
METHOD:PUBLISH
BEGIN:VEVENT
UID:20260424T051511-356299445@secretariat@internetforum.eu
DTSTART:20201116T000000
DTEND:20201116T000000
DTSTAMP:20260424T051511
SUMMARY:European Business Summit 2020
DESCRIPTION:EBS 2020's overarching theme, &ldquo;Rebooting the European economy - Towards a green, digital and more resilient Union&rdquo;, will illustrate the importance and impact sustainability has on various sectors of our society. Through a diverse portfolio of interactive discussions structured around three themes, EBS 2020 will serve as a platform to present concrete solutions and encourage a strong commitment amongst stakeholders to deliver the economic, environmental and social objectives for a sustainable and inclusive Europe. 3 MAIN THEMES: Sustainable economy Digital transformation EU in the world Kindly note that the number of in-person seats is limited, so please ensure you have registered online to join us at the Egmont Palace.
LOCATION:Hybrid Event, Belgium
TRANSP:OPAQUE
END:VEVENT
END:VCALENDAR
