BEGIN:VCALENDAR
PRODID:-//Microsoft Corporation//Outlook 11.0 MIMEDIR//EN
VERSION:2.0
CALSCALE:GREGORIAN
METHOD:PUBLISH
BEGIN:VEVENT
UID:20260421T003610-846838113@secretariat@internetforum.eu
DTSTART:20230711T000000
DTEND:20230712T000000
DTSTAMP:20260421T003610
SUMMARY:GSMA M360 UK - Mobile Security and Industries
DESCRIPTION:The GSMA M360 UK will bring together industry security professionals to share best practice on how to securely unlock the value of mobile technologies and transform industries including: Aviation, Automotive, Banking, Fintech, Manufacturing and Telecoms. The conference will cover the latest industry developments in establishing trust and identity, securely deploying IoT solutions, the importance of eSIM and successfully managing the overall threat landscape.  
LOCATION:Nomura Building Auditorium, United Kingdom
TRANSP:OPAQUE
END:VEVENT
END:VCALENDAR
