BEGIN:VCALENDAR
PRODID:-//Microsoft Corporation//Outlook 11.0 MIMEDIR//EN
VERSION:2.0
CALSCALE:GREGORIAN
METHOD:PUBLISH
BEGIN:VEVENT
UID:20260421T002620-1849186948@secretariat@internetforum.eu
DTSTART:20231204T000000
DTEND:20231208T000000
DTSTAMP:20260421T002620
SUMMARY:eWeek 2023: Shaping the Future of the Digital Economy
DESCRIPTION:The UNCTAD eWeek will explore key policy areas that must be addressed to build an inclusive and sustainable digitalization at the national, regional and global levels with the involvement of all relevant stakeholders: eTrade for all partners, member States, the private sector and civil society. Emphasis will be given to: Innovation: to offer a unique and fresh perspective to the discussion on the future of the digital economy The identification of scalable good practices and possible policy avenues Concrete actions and actionable steps to help shape an inclusive and sustainable future of the digital economy. Throughout the week, the eTrade for all initiative will be leveraged to foster comprehensive, cross-cutting and multistakeholder discussions and debates. 
LOCATION:The International Conference Center Geneva (CICG), Switzerland
TRANSP:OPAQUE
END:VEVENT
END:VCALENDAR
