BEGIN:VCALENDAR
PRODID:-//Microsoft Corporation//Outlook 11.0 MIMEDIR//EN
VERSION:2.0
CALSCALE:GREGORIAN
METHOD:PUBLISH
BEGIN:VEVENT
UID:20260420T040135-1685671114@secretariat@internetforum.eu
DTSTART:20240130T000000
DTEND:20240130T000000
DTSTAMP:20260420T040135
SUMMARY:A collaborative approach to AI implementation and regulation
DESCRIPTION:Europe&rsquo;s AI Act is nearing approval, meaning that the world&rsquo;s toughest regulatory market will be the first to set guardrails on the tech industry&rsquo;s biggest innovation for decades. It aims to require companies to be transparent when using chatbots, while curbing the use of high-risk applications such as predictive policing and emotional recognition.   Against the backdrop of fraught debate, rule makers and industry are beginning to ask whether the best approach would be to work together. If the starting point is striking a balance between encouraging innovation and protecting people&rsquo;s rights, it will be easier to adapt to future risks in a fast-changing market.    Hosted by the Financial Times and Google, this invitation-only event will gather leading figures from across European institutions, industries, start-ups, NGOs, academics, trade associations and think tanks to chart a path forward that is innovative and fair.  
LOCATION:Sofitel Brussels Europe, Belgium
TRANSP:OPAQUE
END:VEVENT
END:VCALENDAR
