BEGIN:VCALENDAR
PRODID:-//Microsoft Corporation//Outlook 11.0 MIMEDIR//EN
VERSION:2.0
CALSCALE:GREGORIAN
METHOD:PUBLISH
BEGIN:VEVENT
UID:20260420T035037-677028479@secretariat@internetforum.eu
DTSTART:20240208T083000
DTEND:20240210T183000
DTSTAMP:20260420T035037
SUMMARY:WAICF 2024
DESCRIPTION:The World AI Cannes Festival brings together the people and companies that are currently building the most game-changing and purposeful AI strategies on the planet.   Fuel by the ambition to support and inspire the next generation of groundbreaking leaders, this 3rd edition will celebrate, beyond the profit line, the AI future in all its forms.
LOCATION:Palais des Festivals et des Congrés, France
TRANSP:OPAQUE
END:VEVENT
END:VCALENDAR
