BEGIN:VCALENDAR
PRODID:-//Microsoft Corporation//Outlook 11.0 MIMEDIR//EN
VERSION:2.0
CALSCALE:GREGORIAN
METHOD:PUBLISH
BEGIN:VEVENT
UID:20260420T035650-272438823@secretariat@internetforum.eu
DTSTART:20240130T090000
DTEND:20240131T172000
DTSTAMP:20260420T035650
SUMMARY:The European 5G Conference 2024
DESCRIPTION:The event will, once again, provide the opportunity to hear from high-level policymakers and industry stakeholders on key themes such as investment, security, sustainability, emerging business models, and connectivity. It will provide an update on progress that has been made towards the 2030 &lsquo;Path to the Digital Decade&rsquo; targets, as well as offering a first opportunity to examine the outcomes from WRC-23 and at what this may mean for the future connectivity environment around 5G and future technologies. By looking back at the lessons learnt to date and forward to the path towards 5G Advanced and 6G, the event will provide a comprehensive insight into all the key policy aspects that are shaping the 5G ecosystem in Europe.
LOCATION:Hotel nhow Brussels Bloom, Belgium
TRANSP:OPAQUE
END:VEVENT
END:VCALENDAR
