BEGIN:VCALENDAR
PRODID:-//Microsoft Corporation//Outlook 11.0 MIMEDIR//EN
VERSION:2.0
CALSCALE:GREGORIAN
METHOD:PUBLISH
BEGIN:VEVENT
UID:20260420T191329-492431148@secretariat@internetforum.eu
DTSTART:20260422T000000
DTEND:20260422T000000
DTSTAMP:20260420T191329
SUMMARY:Who Protects Children Online? A Shared European Responsibility
DESCRIPTION:As Member States advance national initiatives such as the introduction of a digital age of majority, this event will explore how the European Union, national authorities, online platforms and civil society can jointly strengthen the protection of minors online. The discussions will focus in particular on: Digital age of majority Implementation of the Digital Services Act (DSA) Preparation of the Digital Fairness Act Tackling addictive design practices and other online risks The event will open with a Keynote Address by Anne Le H&eacute;nanff, French Minister for Digital Affairs, followed by a panel discussion.
LOCATION:European Parliament – Antall 4Q1, Belgium
TRANSP:OPAQUE
END:VEVENT
END:VCALENDAR
