BEGIN:VCALENDAR
PRODID:-//Microsoft Corporation//Outlook 11.0 MIMEDIR//EN
VERSION:2.0
CALSCALE:GREGORIAN
METHOD:PUBLISH
BEGIN:VEVENT
UID:20260424T161327-615367497@secretariat@internetforum.eu
DTSTART:20260518T000000
DTEND:20260518T000000
DTSTAMP:20260424T161327
SUMMARY:The Digital Networks Act: Future-proofing the EU’s digital connectivity
DESCRIPTION:Europe will require access to gigabit networks and secure, resilient digital infrastructure to reach the goals of the Digital Decade. The Digital Networks Act (DNA) is set to be a cornerstone of the EU&rsquo;s digital policy in the coming years. This conference will focus on the key actions needed to address the challenges ahead in modernising and streamlining the current legal framework, with a view to creating a true Single Market for digital connectivity. Two panel debates featuring high-level representatives from EU Member States and EU institutions, civil society and industry will examine the DNA&rsquo;s potential to drive digital transformation, strengthen European competitiveness and deliver benefits for society as a whole. The event is co-organised by the Cyprus Presidency of the Council of the European Union and the General Secretariat of the Council.
LOCATION:Council of the European Union, Belgium
TRANSP:OPAQUE
END:VEVENT
END:VCALENDAR
