BEGIN:VCALENDAR
PRODID:-//Microsoft Corporation//Outlook 11.0 MIMEDIR//EN
VERSION:2.0
CALSCALE:GREGORIAN
METHOD:PUBLISH
BEGIN:VEVENT
UID:20260424T052025-1468945642@secretariat@internetforum.eu
DTSTART:20201102T000000
DTEND:20201117T000000
DTSTAMP:20260424T052025
SUMMARY:IGF 2020
DESCRIPTION:EIF Members are welcome to join the Organising Committee for this debate.Please note that the date of this debate is subject to change. The Fifteenth Annual Meeting of the Internet Governance Forum (IGF) will be hosted online by the United Nations under the overarching theme: Internet for human resilience and solidarity. The programme continues to develop around the four main thematic tracks: (1) Data; (2) Environment; (3) Inclusion; (4) Trust. The IGF 2020 pre-events, newcomers sessions, thematic introductory sessions, as well as the Open Forums, NRIs and DCsessions will be hosted from 2 to 6 November during the first meeting's phase. The meeting will be officially opened on 9 November and closed on 17 November. During this 7-day phase, workshops, main sessions, the high-level leader's track, parliamentarians roundtable and thematic concluding sessions will be hosted. Draft IGF 2020 Schedule. List of selected workshops, open forums, pre-events and IGF Village booths.
LOCATION:TBC, Poland
TRANSP:OPAQUE
END:VEVENT
END:VCALENDAR
