BEGIN:VCALENDAR
PRODID:-//Microsoft Corporation//Outlook 11.0 MIMEDIR//EN
VERSION:2.0
CALSCALE:GREGORIAN
METHOD:PUBLISH
BEGIN:VEVENT
UID:20260423T135448-1539840307@secretariat@internetforum.eu
DTSTART:20260610T123000
DTEND:20260610T140000
DTSTAMP:20260423T135448
SUMMARY:26th Annual General Assembly meeting
DESCRIPTION:\n\nhttps://www.internetforum.eu/events/events/2191-26th-annual-general-assembly-meeting.html\nEIF Members are invited to join our Steering Committee Chair Marina Kaljurand MEP, our Board Chair Audrey Scozzaro Ferrazzini and our Director General Maria Rosa Gibellini at our 26th Annual General Assembly meeting. The meeting will take place over a seated lunch at the European Parliament. Votes on resolutions will be cast in person on site by one representative per organisation. A briefing note will be circulated to registered participants in advance.
LOCATION:European Parliament, Members' Salons, Rue Wiertz 60, Brussels
TRANSP:OPAQUE
END:VEVENT
END:VCALENDAR
